BEGIN:VCALENDAR
VERSION:2.0
METHOD:PUBLISH
BEGIN:VEVENT
UID:WILD_APRICOT_EVENT_2621270_SESSION_1
DTSTART:20170909T003000Z
DTEND:20170909T043000Z
SUMMARY:W.A. Educational Opportunities Series 1
LOCATION:Hollywood Private Hospital W.A.
DESCRIPTION:https://www.aaahp.org.au/event-2621270\n\n\nAUSTRALIAN ANAESTHESIA ALLIED HEALTH PRACTITIONERS\n  Presents an all new and exclusive program (min 2CPD hrs)\n  FREE AAAHP Members\n  $20 Non-Members\n  \nWA Educational Opportunities     SERIES 1 “Communication issues within a team and the effects on patient safety”\n  Mal Lowther - Director Teamworks Development Australia\n  TBC Andy Challen – Medical Officer Australian Defence Force\n  Proundly supported by\n  \n
DTSTAMP:20200228T144216Z
END:VEVENT
END:VCALENDAR
