BEGIN:VCALENDAR
VERSION:2.0
METHOD:PUBLISH
BEGIN:VEVENT
UID:WILD_APRICOT_EVENT_3539696_SESSION_1
DTSTART:20201023T103000Z
DTEND:20201025T080000Z
SUMMARY:AAAHP 5th National Conference
LOCATION:Fremantle \,Australia
DESCRIPTION:https://www.aaahp.org.au/event-3539696\n\n       Earn 12 CPD (Continuing Professional Development) hours for attending the 2-day conference!  \n  AAAHP is proud to be presenting its 5th National  conference in 2020.\n  The conference is designed for Anaesthetic Technicians\, Anaesthetic Nurses\, and any other health care workers interested in Anaesthesia.\n  GET IN EARLY\, EARLY BIRD REGISTRATIONS END 31/07/2020.. LIMITED SPACES AVAILABLE\n  The Venue for this years conference is the Beautiful Esplanade Hotel Fremantle\, W.A.\n  This year we have also secured special flight pricing for all those attending the Conference \, through QANTAS( TBC)\n  For more information about the conference\, sponsor and exhibitor opportunities\, please contact \, Shane Guy treasurer@aaahp.org.au or Ray Murtagh registrar@aaahp.org.au \,Conference Convenors 2019.\n  We look forward to seeing you there!\n  #AAAHPConference\n  Beautiful Fremantle\n   \n  \n\n\n  \nThank you to our Sponsors\n   \n  \nGold Sponsor\n     TBC    \n  \nSilver Sponsors\n  \n\n  TBC\n   \n  \nBronze Sponsors\n  TBC\n  \n  Alison Holloway Award Sponsor\n  TBC\n\n  \n \n Exhibitors\n  \n\n   TBC\n   \n  \nVenues\n  The Esplanade Hotel Fremantle \, W.A.\n  \n\n   \n  \nTravel\n\n         \n\n\n  \n\n\n  \nConference Accomodation\nThe Esplanade Hotel Fremantle\, W.A.  \n\n  \n\n  \nFunction venues\n  \nWelcome reception\n  \n\n
DTSTAMP:20200228T144227Z
END:VEVENT
END:VCALENDAR
